BEGIN:VCALENDAR
METHOD:PUBLISH
VERSION:2.0
PRODID:-//hacksw/handcal//NONSGML v1.0//EN
X-WR-TIMEZONE:Australia/Sydney
CALSCALE:GREGORIAN
BEGIN:VEVENT
DTSTART;TZID=Australia/Sydney:20260605T080000
DTEND;TZID=Australia/Sydney:20260605T170000
UID:1242710277269D0EF2C593B3376059705887650198069D0EF2C593BF67049160
DTSTAMP:20260420T200522
LOCATION:Sydney Motor Sport Park
DESCRIPTION:https://www.gearclub.com.au/calendar.html
URL;VALUE=URI:http://bolwellcarclubnsw.com/events/view.php?id=124271027726
 9D0EF2C593B3376059705887650198069D0EF2C593BF67049160
SUMMARY:GEAR Day: HSRCA @ SMSP Gardner GP
END:VEVENT
END:VCALENDAR
